BEGIN:VCALENDAR
VERSION:2.0
PRODID:-//Pulse FM - ECPv6.15.17.1//NONSGML v1.0//EN
CALSCALE:GREGORIAN
METHOD:PUBLISH
X-ORIGINAL-URL:https://pulsefm.com
X-WR-CALDESC:Events for Pulse FM
REFRESH-INTERVAL;VALUE=DURATION:PT1H
X-Robots-Tag:noindex
X-PUBLISHED-TTL:PT1H
BEGIN:VTIMEZONE
TZID:America/Indiana/Indianapolis
BEGIN:DAYLIGHT
TZOFFSETFROM:-0500
TZOFFSETTO:-0400
TZNAME:EDT
DTSTART:20250309T070000
END:DAYLIGHT
BEGIN:STANDARD
TZOFFSETFROM:-0400
TZOFFSETTO:-0500
TZNAME:EST
DTSTART:20251102T060000
END:STANDARD
BEGIN:DAYLIGHT
TZOFFSETFROM:-0500
TZOFFSETTO:-0400
TZNAME:EDT
DTSTART:20260308T070000
END:DAYLIGHT
BEGIN:STANDARD
TZOFFSETFROM:-0400
TZOFFSETTO:-0500
TZNAME:EST
DTSTART:20261101T060000
END:STANDARD
BEGIN:DAYLIGHT
TZOFFSETFROM:-0500
TZOFFSETTO:-0400
TZNAME:EDT
DTSTART:20270314T070000
END:DAYLIGHT
BEGIN:STANDARD
TZOFFSETFROM:-0400
TZOFFSETTO:-0500
TZNAME:EST
DTSTART:20271107T060000
END:STANDARD
END:VTIMEZONE
BEGIN:VEVENT
DTSTART;TZID=America/Indiana/Indianapolis:20260507T120000
DTEND;TZID=America/Indiana/Indianapolis:20260507T130000
DTSTAMP:20260422T115515
CREATED:20260421T125001Z
LAST-MODIFIED:20260421T125001Z
UID:4415372-1778155200-1778158800@pulsefm.com
SUMMARY:Kosciusko County IN National Day of Prayer
DESCRIPTION:Please join us at the 2026 Kosciusko County Indiana National Day of Prayer. The event will be held at Rodeheaver Auditorium on the campus of Grace College in Winona Lake\, Indiana.\n\nThis year’s theme is: “GLORIFY GOD AMONG THE NATIONS – SEEKING HIM IN ALL GENERATIONS”. Let’s seek the Lord together for His work among the families\, churches\, schools\, media groups\, governments\, businesses\, and military members in our community\, our state\, and our nation. Let’s also pray God will be glorified in all the nations of the world.\n\nTell of His glory among the nations\, His wonderful deeds among all the peoples. 1 Chronicles 16:24 NASB
URL:https://pulsefm.com/community-event/kosciusko-county-in-national-day-of-prayer-2/
LOCATION:Rodeheaver Auditorium\, 901 Park Ave\, Winona Lake\, I\, 46590\, United States
ORGANIZER;CN="Kosciusko County National Day of Prayer Committee":MAILTO:bshown2020@gmail.com
END:VEVENT
BEGIN:VEVENT
DTSTART;TZID=America/Indiana/Indianapolis:20260507T150000
DTEND;TZID=America/Indiana/Indianapolis:20260507T193000
DTSTAMP:20260422T115515
CREATED:20260401T120623Z
LAST-MODIFIED:20260401T120623Z
UID:4415214-1778166000-1778182200@pulsefm.com
SUMMARY:2026 Thought Leadership Conference – Building a Connected Culture by Centering Human Relations – Continuing the Conversation: It Takes a Village
DESCRIPTION:About This Year’s Event\nThis year\, the Thought Leadership Conference offers a focused\, community-centered experience built around a shared conversation. Rather than traditional conference sessions\, the Institute creates space for connection\, dialogue\, and collective reflection. It is a community conversation designed to encourage participation\, reflection\, and connection. \n\n\n\nThought Leadership Conference – More Information\n\n\n\n\n\nLerner Theatre – Schedule\n3:00 PM – Lerner Theatre – Stage\nYouth Empowerment Symposium (YES!)\nwith Seth Maust \n4:00 PM to 7:30 PM – Lerner Theatre – Lobby\nYouth & Family Community Fair\nVisit interactive community partner booths highlighting resources and opportunities for youth and families. \n6:00 PM – Lerner Theatre – Auditorium\nContinuing the Conversation: Opening Reflection with Dr. Michaeleen Doucleff \n6:00 PM – Lerner Theatre – Auditorium\nContinuing the Conversation: “It Takes a Village” Panel Discussion\nA free\, public community event featuring Mayor Rod Roberson\, Superintendent Dr. Larry Huff\, and Chamber President Levon Johnson in a moderated dialogue\, focused on youth\, families\, workforce pathways\, and community vitality \n7:00 PM – Lerner Theatre\nBook Signing & Photos with Dr. Michaeleen Doucleff\nCommunity Engagement & Photo Session \n\n\n\n\n\n\nThis is a free event\, but guests will need to reserve tickets ahead of time at The Lerner Theatre Box Office in-person or over the phone at 574-293-4469.
URL:https://pulsefm.com/community-event/2026-thought-leadership-conference-building-a-connected-culture-by-centering-human-relations-continuing-the-conversation-it-takes-a-village/
LOCATION:The Lerner Theatre\, 410 South Main St.\, Elkhart\, I\, 46516\, United States
END:VEVENT
BEGIN:VEVENT
DTSTART;TZID=America/Indiana/Indianapolis:20260509T100000
DTEND;TZID=America/Indiana/Indianapolis:20260509T150000
DTSTAMP:20260422T115515
CREATED:20260224T184329Z
LAST-MODIFIED:20260224T184329Z
UID:4414975-1778320800-1778338800@pulsefm.com
SUMMARY:Elkhart Northside Baby Room Craft Fair
DESCRIPTION:Elkhart Northside Baby Room Craft Fair is back for our 3rd annual indoor event with room for over 60 booths of fun crafts\, direct sales\, and small business’ on Saturday May 9th from 10am-3pm.Free admission! All vendor fees and donations are going to our local ministry called Baby Room. The Baby Room serves over 60 families every month by providing free baby clothes and gently used baby necessities. We also provide newborn baskets filled with free essentials to take home. So come and join the fun and shop for all your spring décor\, mother’s day gifts and more and help us support this wonderful community ministry.
URL:https://pulsefm.com/community-event/elkhart-northside-baby-room-craft-fair-3/
LOCATION:Elkhart Northsid Church of the Nazarene\, 53569 County Road 7\, Elkhart\, I\, 46514\, United States
ORGANIZER;CN="Elkhart Northside Church of the Nazarene":MAILTO:office@elkhartnorthside.org
END:VEVENT
BEGIN:VEVENT
DTSTART;TZID=America/Indiana/Indianapolis:20260511T170000
DTEND;TZID=America/Indiana/Indianapolis:20260511T190000
DTSTAMP:20260422T115515
CREATED:20260324T185931Z
LAST-MODIFIED:20260324T185931Z
UID:4415111-1778518800-1778526000@pulsefm.com
SUMMARY:The Journey Christian Academy Community Fun Night
DESCRIPTION:Come join the students\, staff and families of The Journey Christian Academy for an evening of FREE fun & games at River Oaks Church in Goshen to find out about this hidden gem of a school that could be the perfect fit for your family! JCA is for K-6th grade with open enrollment for the 2026/2027 schoolyear. There’s no cost to attend and there will be Kona Ice\, bouncy houses\, a smore’s station and lots of fun outdoor activities for your kids to enjoy while you see all that JCA has to offer!
URL:https://pulsefm.com/community-event/the-journey-christian-academy-community-fun-night/
LOCATION:River Oaks Church Goshen\, 58020 C.R. 115\, Goshen\, IN\, 46528\, United States
ORGANIZER;CN="The Journey Christian Academy":MAILTO:admin@thejourneychristianacademy.com
END:VEVENT
BEGIN:VEVENT
DTSTART;TZID=America/Indiana/Indianapolis:20260511T170000
DTEND;TZID=America/Indiana/Indianapolis:20260511T190000
DTSTAMP:20260422T115515
CREATED:20260324T185934Z
LAST-MODIFIED:20260324T185934Z
UID:4415164-1778518800-1778526000@pulsefm.com
SUMMARY:The Journey Christian Academy Community Fun Night
DESCRIPTION:Please join us for a night of FREE family fun as we come together to support and celebrate the students and families at The Journey Christian Academy! This open house style community event will feature bouncy houses\, food trucks and activities for the entire family to enjoy and you’ll be able to learn more about The Journey if you’re unfamiliar with the school.
URL:https://pulsefm.com/community-event/the-journey-christian-academy-community-fun-night-2/
LOCATION:river oaks church\, 58020 C.R. 115\, Goshen\, IN\, 46528\, United States
ORGANIZER;CN="The Journey Christian Academy":MAILTO:admin@thejourneychristianacademy.com
END:VEVENT
BEGIN:VEVENT
DTSTART;TZID=America/Indiana/Indianapolis:20261107T080000
DTEND;TZID=America/Indiana/Indianapolis:20261107T140000
DTSTAMP:20260422T115515
CREATED:20260421T125000Z
LAST-MODIFIED:20260421T125000Z
UID:4415275-1794038400-1794060000@pulsefm.com
SUMMARY:Yellow Creek Craft Show
DESCRIPTION:Come join us for a chance to do some Holiday shopping with over 60 craft vendors.                     Take home some yummy baked items from our bake sale! Breakfast and lunch will also be available. All proceeds go to church ministries.
URL:https://pulsefm.com/community-event/yellow-creek-craft-show-2/
LOCATION:Yellow Creek Mennonite Church\, 64901 County Road 11\, Goshen\, I\, 46526\, United States
ORGANIZER;CN="Yellow Creek Mennonite Church":MAILTO:info@yellowcreekmc.org
END:VEVENT
BEGIN:VEVENT
DTSTART;TZID=America/Indiana/Indianapolis:20261120T080000
DTEND;TZID=America/Indiana/Indianapolis:20261121T180000
DTSTAMP:20260422T115515
CREATED:20260421T125002Z
LAST-MODIFIED:20260421T125002Z
UID:4415386-1795161600-1795284000@pulsefm.com
SUMMARY:International Mental Health Conference 2026 (Hybrid Event)
DESCRIPTION:Mental Health Conference 2026 is a global hybrid conference organized by PubScholars\, scheduled for 20–21 November 2026 at Aloft Boston Seaport District\, with virtual participation available worldwide. \nUnder the theme “Next-Generation Mental Health: Integrating AI\, Genomics & Clinical Excellence\,” the conference will bring together psychiatrists\, psychologists\, researchers\, neuroscientists\, healthcare leaders\, policymakers\, students\, and mental health advocates to explore cutting-edge innovations in mental healthcare. \nThe two-day program features keynote sessions\, expert panels\, breakout discussions\, poster presentations\, hands-on workshops\, and research publication opportunities. Key focus areas include AI in psychiatry\, digital mental health technologies\, trauma-informed care\, youth and workplace mental health\, neurodegenerative disorders\, suicide prevention\, neuropharmacology\, and global mental health policy. \nParticipants can attend in person in Boston or join virtually with full access to live sessions and on-demand materials. The conference also offers networking opportunities\, CPD learning exposure\, presentation awards\, and certification for registered attendees. \nImportant Deadlines: \n\nEarly Bird Offer Valid Until: 15 May 2026\nAbstract Submission Deadline: 30 April 2026\nSecond Round Abstract Deadline: 30 September 2026\nRegistration Closes: 20 October 2026\n\nThis event provides a comprehensive platform to exchange knowledge\, showcase research\, and shape the future of global mental healthcare.
URL:https://pulsefm.com/community-event/international-mental-health-conference-2026-hybrid-event/
LOCATION:Aloft Boston Seaport District\, 401-403 D St\, Boston\, MA 02210\, United States\, Boston\, MA\, 02210\, United States
ORGANIZER;CN="PubScholars Group":MAILTO:nursing@pubscholars.org
END:VEVENT
END:VCALENDAR