BEGIN:VCALENDAR
VERSION:2.0
PRODID:-//Pulse FM - ECPv6.15.17.1//NONSGML v1.0//EN
CALSCALE:GREGORIAN
METHOD:PUBLISH
X-ORIGINAL-URL:https://pulsefm.com
X-WR-CALDESC:Events for Pulse FM
REFRESH-INTERVAL;VALUE=DURATION:PT1H
X-Robots-Tag:noindex
X-PUBLISHED-TTL:PT1H
BEGIN:VTIMEZONE
TZID:America/Indiana/Indianapolis
BEGIN:DAYLIGHT
TZOFFSETFROM:-0500
TZOFFSETTO:-0400
TZNAME:EDT
DTSTART:20250309T070000
END:DAYLIGHT
BEGIN:STANDARD
TZOFFSETFROM:-0400
TZOFFSETTO:-0500
TZNAME:EST
DTSTART:20251102T060000
END:STANDARD
BEGIN:DAYLIGHT
TZOFFSETFROM:-0500
TZOFFSETTO:-0400
TZNAME:EDT
DTSTART:20260308T070000
END:DAYLIGHT
BEGIN:STANDARD
TZOFFSETFROM:-0400
TZOFFSETTO:-0500
TZNAME:EST
DTSTART:20261101T060000
END:STANDARD
BEGIN:DAYLIGHT
TZOFFSETFROM:-0500
TZOFFSETTO:-0400
TZNAME:EDT
DTSTART:20270314T070000
END:DAYLIGHT
BEGIN:STANDARD
TZOFFSETFROM:-0400
TZOFFSETTO:-0500
TZNAME:EST
DTSTART:20271107T060000
END:STANDARD
END:VTIMEZONE
BEGIN:VEVENT
DTSTART;TZID=America/Indiana/Indianapolis:20261107T080000
DTEND;TZID=America/Indiana/Indianapolis:20261107T140000
DTSTAMP:20260424T043843
CREATED:20260421T125000Z
LAST-MODIFIED:20260421T125000Z
UID:4415275-1794038400-1794060000@pulsefm.com
SUMMARY:Yellow Creek Craft Show
DESCRIPTION:Come join us for a chance to do some Holiday shopping with over 60 craft vendors.                     Take home some yummy baked items from our bake sale! Breakfast and lunch will also be available. All proceeds go to church ministries.
URL:https://pulsefm.com/community-event/yellow-creek-craft-show-2/
LOCATION:Yellow Creek Mennonite Church\, 64901 County Road 11\, Goshen\, I\, 46526\, United States
ORGANIZER;CN="Yellow Creek Mennonite Church":MAILTO:info@yellowcreekmc.org
END:VEVENT
END:VCALENDAR