BEGIN:VCALENDAR
VERSION:2.0
PRODID:-//Pulse FM - ECPv6.15.17.1//NONSGML v1.0//EN
CALSCALE:GREGORIAN
METHOD:PUBLISH
X-WR-CALNAME:Pulse FM
X-ORIGINAL-URL:https://pulsefm.com
X-WR-CALDESC:Events for Pulse FM
REFRESH-INTERVAL;VALUE=DURATION:PT1H
X-Robots-Tag:noindex
X-PUBLISHED-TTL:PT1H
BEGIN:VTIMEZONE
TZID:America/Indiana/Indianapolis
BEGIN:DAYLIGHT
TZOFFSETFROM:-0500
TZOFFSETTO:-0400
TZNAME:EDT
DTSTART:20250309T070000
END:DAYLIGHT
BEGIN:STANDARD
TZOFFSETFROM:-0400
TZOFFSETTO:-0500
TZNAME:EST
DTSTART:20251102T060000
END:STANDARD
BEGIN:DAYLIGHT
TZOFFSETFROM:-0500
TZOFFSETTO:-0400
TZNAME:EDT
DTSTART:20260308T070000
END:DAYLIGHT
BEGIN:STANDARD
TZOFFSETFROM:-0400
TZOFFSETTO:-0500
TZNAME:EST
DTSTART:20261101T060000
END:STANDARD
BEGIN:DAYLIGHT
TZOFFSETFROM:-0500
TZOFFSETTO:-0400
TZNAME:EDT
DTSTART:20270314T070000
END:DAYLIGHT
BEGIN:STANDARD
TZOFFSETFROM:-0400
TZOFFSETTO:-0500
TZNAME:EST
DTSTART:20271107T060000
END:STANDARD
END:VTIMEZONE
BEGIN:VEVENT
DTSTART;TZID=America/Indiana/Indianapolis:20260426T080000
DTEND;TZID=America/Indiana/Indianapolis:20260426T130000
DTSTAMP:20260424T095345
CREATED:20260421T125002Z
LAST-MODIFIED:20260421T125002Z
UID:4415399-1777190400-1777208400@pulsefm.com
SUMMARY:Coffee Cruise In for a Cause
DESCRIPTION:Check out the coolest cars\, trucks and motorcycles and contribute to the Center for Hospice Care Coffee Cruise In for a Cause on Sunday\, April 26\, 8:00 a.m. – 1:00 p.m. located at: 501 Comfort Place in Mishawaka. It is a minimum donation of $10.00 to display each vehicle with awards for best car\, best truck\, best motorcycle and best in show as voted by the crowd. 100% of proceeds benefit Center for Hospice Care. Free general admission for spectators to enjoy looking at the vehicles. Spectator Parking is available at Central Park: 295 E. Mishawaka Avenue\, Mishawaka\, Indiana. \nRegister vehicles at: foundationforhospice.org/coffeecruisein or contact Red Fisher at:  fisherr@cfhcare.org or telephone #574-243-3119. \nEvent is sponsored by: St. Joe Valley Street Rods\, Gurley Leep Automotive\, T&T Entertainment and Bonnie Doon Ice-cream.
URL:https://pulsefm.com/community-event/coffee-cruise-in-for-a-cause/
LOCATION:MA
END:VEVENT
END:VCALENDAR